BEGIN:VCALENDAR
VERSION:2.0
PRODID:-//Squarespace Inc/Squarespace 6//v6//EN
BEGIN:VEVENT
UID:5ebce7e3a50f1b0427713d20@squarespace.com
DTSTAMP:20200514T065415Z
DTSTART:20200514T070000Z
DTEND:20200618T080000Z
SUMMARY:Stay Connected
END:VEVENT
END:VCALENDAR
