BEGIN:VCALENDAR
VERSION:2.0
PRODID:-//Squarespace Inc/Squarespace 6//v6//EN
BEGIN:VEVENT
UID:5d75d10ae9cdb53aa965cb17@squarespace.com
DTSTAMP:20190909T043745Z
DTSTART:20190917T213000Z
DTEND:20190917T223000Z
SUMMARY:Customer Service - What's the big deal?
GEO:-31.913443;152.460999
LOCATION:Centrepoint Cafe Taree\, Victoria Street\, Taree NSW 2430\, Austra
 lia
END:VEVENT
END:VCALENDAR
